BEGIN:VCALENDAR
VERSION:2.0
PRODID:-//International Balint Federation - ECPv5.10.1//NONSGML v1.0//EN
CALSCALE:GREGORIAN
METHOD:PUBLISH
X-WR-CALNAME:International Balint Federation
X-ORIGINAL-URL:https://www.balintinternational.com
X-WR-CALDESC:Events for International Balint Federation
BEGIN:VTIMEZONE
TZID:America/Los_Angeles
BEGIN:DAYLIGHT
TZOFFSETFROM:-0800
TZOFFSETTO:-0700
TZNAME:PDT
DTSTART:20170312T100000
END:DAYLIGHT
BEGIN:STANDARD
TZOFFSETFROM:-0700
TZOFFSETTO:-0800
TZNAME:PST
DTSTART:20171105T090000
END:STANDARD
END:VTIMEZONE
BEGIN:VEVENT
DTSTART;TZID=America/Los_Angeles:20170330T120000
DTEND;TZID=America/Los_Angeles:20170402T113000
DTSTAMP:20260421T233758
CREATED:20170118T042757Z
LAST-MODIFIED:20170118T042757Z
UID:4682-1490875200-1491132600@www.balintinternational.com
SUMMARY:Seattle Balint Leadership Training Intensive
DESCRIPTION:Seattle Balint Leadership Training Intensive\n 
URL:https://www.balintinternational.com/event/seattle-balint-leadership-training-intensive/
LOCATION:Doubletree Suites Hotel\, 16500 Southcenter Parkway\, Seattle\, WA\, 98188-3388\, United States
ORGANIZER;CN="Kathy%20Knowlton":MAILTO:tryekk@aol.com
END:VEVENT
END:VCALENDAR