BEGIN:VCALENDAR
VERSION:2.0
PRODID:-//International Balint Federation - ECPv5.10.1//NONSGML v1.0//EN
CALSCALE:GREGORIAN
METHOD:PUBLISH
X-WR-CALNAME:International Balint Federation
X-ORIGINAL-URL:https://www.balintinternational.com
X-WR-CALDESC:Events for International Balint Federation
BEGIN:VTIMEZONE
TZID:UTC
BEGIN:STANDARD
TZOFFSETFROM:+0000
TZOFFSETTO:+0000
TZNAME:UTC
DTSTART:20160101T000000
END:STANDARD
END:VTIMEZONE
BEGIN:VEVENT
DTSTART;VALUE=DATE:20161015
DTEND;VALUE=DATE:20161016
DTSTAMP:20260422T022418
CREATED:20160824T025127Z
LAST-MODIFIED:20160824T025127Z
UID:4419-1476489600-1476575999@www.balintinternational.com
SUMMARY:Meeting of the Association Internationale du Psychodrame Balint
DESCRIPTION:
URL:https://www.balintinternational.com/event/meeting-of-the-association-internationale-du-psychodrame-balint/
END:VEVENT
END:VCALENDAR