BEGIN:VCALENDAR
VERSION:2.0
PRODID:-//International Balint Federation - ECPv5.10.1//NONSGML v1.0//EN
CALSCALE:GREGORIAN
METHOD:PUBLISH
X-WR-CALNAME:International Balint Federation
X-ORIGINAL-URL:https://www.balintinternational.com
X-WR-CALDESC:Events for International Balint Federation
BEGIN:VTIMEZONE
TZID:Europe/Paris
BEGIN:DAYLIGHT
TZOFFSETFROM:+0100
TZOFFSETTO:+0200
TZNAME:CEST
DTSTART:20180325T010000
END:DAYLIGHT
BEGIN:STANDARD
TZOFFSETFROM:+0200
TZOFFSETTO:+0100
TZNAME:CET
DTSTART:20181028T010000
END:STANDARD
END:VTIMEZONE
BEGIN:VEVENT
DTSTART;TZID=Europe/Paris:20180525T153000
DTEND;TZID=Europe/Paris:20180527T123000
DTSTAMP:20260421T120948
CREATED:20171015T035225Z
LAST-MODIFIED:20180210T020307Z
UID:4779-1527262200-1527424200@www.balintinternational.com
SUMMARY:May 2018 Council Meeting - Reims\, France
DESCRIPTION:May 2018 Council Meeting – Reims\, France\n\n\n\n\nIBF Council in May 2018 in Reims (France) \nFriday May 25th – Sunday May 27th\, 2018 \nConference details | Programme | Registration Form \n\n\n\n\n \nThe SMB (French Balint Society) will be holding a Balint WE in Reims from the 25th to 27th of May 2018. The work will begin on Friday afternoon by a short talk and a Balint group and will end on Sunday at noon. The IBF council will take place on Saturday afternoon. \nReims is in the area of the worldwide famous Champagne wine! It’s an historical city where many French kings were crowned. http://www.reims-tourism.com \nThe conference will be held at the International Center in Reims\, which is a place with the same philosophy as to the one where the 19th international congress took place in Metz. website: http://www.cis-reims.co.uk \nThe conference center is near the center of the city and easily connected to the city buses. Rooms can be booked in the conference center. Different types of room are available. You need to book the room yourself directly on the website (http://www.cis-reims.co.uk/hebergement-2/nos- chambres/).\nBest to say that you come for the Balint weekend as we manage to get single rooms with toilets and shower inside the room for 53\,50€/ person/ night breakfast included. \nYou can also find hotels using the website reims-tourism.com \nOrganising committee: \nDr Monique Aubart Schuller\, Frisange\, Luxembourg\n Dr Françoise Auger\, Paris\, France\n Dr Jean-Daniel Gradeler\, St Privat la Montagne\, France Dr Mathieu Moreno\, Bousse\, France\n Dr Kevin Prohaska\, Hosingen\, Luxembourg
URL:https://www.balintinternational.com/event/may-2018-council-meeting-reims-france/
LOCATION:CIS Reims\, 21 Chaussée Bocquaine\, Reims\, 51100\, France
CATEGORIES:IBF Council Meeting
ORGANIZER;CN="The%20French%20Balint%20Society":MAILTO:secretariat.balint@gmail.com
END:VEVENT
END:VCALENDAR