BEGIN:VCALENDAR
VERSION:2.0
PRODID:-//International Balint Federation - ECPv5.10.1//NONSGML v1.0//EN
CALSCALE:GREGORIAN
METHOD:PUBLISH
X-WR-CALNAME:International Balint Federation
X-ORIGINAL-URL:https://www.balintinternational.com
X-WR-CALDESC:Events for International Balint Federation
BEGIN:VTIMEZONE
TZID:Europe/Zurich
BEGIN:DAYLIGHT
TZOFFSETFROM:+0100
TZOFFSETTO:+0200
TZNAME:CEST
DTSTART:20170326T010000
END:DAYLIGHT
BEGIN:STANDARD
TZOFFSETFROM:+0200
TZOFFSETTO:+0100
TZNAME:CET
DTSTART:20171029T010000
END:STANDARD
END:VTIMEZONE
BEGIN:VEVENT
DTSTART;TZID=Europe/Zurich:20170524T083000
DTEND;TZID=Europe/Zurich:20170527T203000
DTSTAMP:20260421T181316
CREATED:20170313T212747Z
LAST-MODIFIED:20170313T212748Z
UID:4712-1495614600-1495917000@www.balintinternational.com
SUMMARY:Journées Balint Annecy 2017
DESCRIPTION:Les Journées Balint d ’Annecy\n\n\n\n\nLa relation soignant-soigné\n Séminaire de formation pour médecins et soignants\n\n\n\n\nCes journées sont placées sous l’égide de l’Association de Formation Balint (A.F.B.)\, de l’Association Internationale du Psychodrame Balint (A.I.P.B.)\, et de l’Association de Relaxation Psychanalytique Sapir (A.R.E.P.S.). \nLa relation au malade est un élément central dans toute profession de soin. Source de satisfactions mais aussi de dif cultés\, elle est marquée par la complexité. En ce domaine\, une formation portant sur les mécanismes psychiques et les émotions en jeu dans l’acte de soin\, chez le patient et chez le soignant\, est essentielle. Elle est une condition pour mieux soigner. \nCentrées sur la relation soignant-soigné\, les Journées Balint d’Annecy s’adressent aux professionnels de santé de divers pays francophones : médecins\, in rmières\, psychologues\, kinésithérapeutes\, psychomotriciens\, sages-femmes\,… Le travail proposé utilise la méthode des cas\, selon une approche développée par le psychanalyste d’origine hongroise Michaël Balint. \nUnique en Europe\, ce séminaire se distingue à la fois par les méthodes utilisées\, la diversité des soignants qui y participent\, l’atmosphère qui y règne et le temps que l’on se donne pour prendre un recul plus que nécessaire sur nos pratiques. \nLe matériel clinique\, apporté par les participants\, fait l’objet d’un travail en commun selon un dispositif alternant petits groupes Balint et grands groupes Balint. La relaxation psychanalytique et le psychodrame Balint\, proposés en activités optionnelles\, sensibilisent les participants au lien entre la parole et le corps. \nBalint Annecy 2017 \nFORMULAIRE INSCRIPTION BALINT ANNECY 2017
URL:https://www.balintinternational.com/event/journees-balint-annecy-2017/
LOCATION:Novotel ATRIA\, 1\, avenue Berthollet\, Annecy\, 74000\, Switzerland
ORGANIZER;CN="Jean-Pierre%20Bachman":MAILTO:jpbachmann@sunrise.ch
END:VEVENT
END:VCALENDAR