BEGIN:VCALENDAR
VERSION:2.0
PRODID:-//International Balint Federation - ECPv5.10.1//NONSGML v1.0//EN
CALSCALE:GREGORIAN
METHOD:PUBLISH
X-WR-CALNAME:International Balint Federation
X-ORIGINAL-URL:https://www.balintinternational.com
X-WR-CALDESC:Events for International Balint Federation
BEGIN:VTIMEZONE
TZID:Europe/Helsinki
BEGIN:DAYLIGHT
TZOFFSETFROM:+0200
TZOFFSETTO:+0300
TZNAME:EEST
DTSTART:20170326T010000
END:DAYLIGHT
BEGIN:STANDARD
TZOFFSETFROM:+0300
TZOFFSETTO:+0200
TZNAME:EET
DTSTART:20171029T010000
END:STANDARD
END:VTIMEZONE
BEGIN:VEVENT
DTSTART;TZID=Europe/Helsinki:20170519T140000
DTEND;TZID=Europe/Helsinki:20170521T130000
DTSTAMP:20260421T193104
CREATED:20160824T025912Z
LAST-MODIFIED:20161013T084017Z
UID:4425-1495202400-1495371600@www.balintinternational.com
SUMMARY:Belgrade IBF Council meeting and Conference
DESCRIPTION:Belgrade IBF Council Meeting and Conference
URL:https://www.balintinternational.com/event/ibf-council-meeting-and-conference/
LOCATION:Hotel Palace\, Belgrade\, Serbia
ATTACH;FMTTYPE=image/png:https://www.balintinternational.com/wp-content/uploads/2016/08/Screen-Shot-2016-10-12-at-8.34.27-PM.png
END:VEVENT
END:VCALENDAR