BEGIN:VCALENDAR
VERSION:2.0
PRODID:-//International Balint Federation - ECPv5.10.1//NONSGML v1.0//EN
CALSCALE:GREGORIAN
METHOD:PUBLISH
X-WR-CALNAME:International Balint Federation
X-ORIGINAL-URL:https://www.balintinternational.com
X-WR-CALDESC:Events for International Balint Federation
BEGIN:VTIMEZONE
TZID:Europe/Berlin
BEGIN:DAYLIGHT
TZOFFSETFROM:+0100
TZOFFSETTO:+0200
TZNAME:CEST
DTSTART:20180325T010000
END:DAYLIGHT
BEGIN:STANDARD
TZOFFSETFROM:+0200
TZOFFSETTO:+0100
TZNAME:CET
DTSTART:20181028T010000
END:STANDARD
END:VTIMEZONE
BEGIN:VEVENT
DTSTART;TZID=Europe/Berlin:20180608T150000
DTEND;TZID=Europe/Berlin:20180610T130000
DTSTAMP:20260421T143523
CREATED:20180311T085613Z
LAST-MODIFIED:20180311T085613Z
UID:4853-1528470000-1528635600@www.balintinternational.com
SUMMARY:Aachen Balint Workshop
DESCRIPTION:21st National and 8th International Balint Workshop – Aachen\nJune 8-10th\, 2018 – “Positive Psychotherapy-forming relationships by stories…”\nOffering: traditional Balint groups in German and English\, theme centered Balint groups\, leadership training \nfor medical doctors of all specialties\, psychologists\, psychotherapists\, child therapists\, medical care professionals and social workers and students of medicine and psychology \nNewcomers Day – June 9th\nThe Newcomer’s day is offered for all participants who want to get to know and feel what Balint work is like and for those who are not able to stay for the entire conference. \nClick on the link to download the workshop information:\nAachen.2018
URL:https://www.balintinternational.com/event/aachen-balint-workshop/
LOCATION:Katholische Hochschulgemeinde\, Pontstrasse 74-76\, Aachen\, 52062\, Germany
ORGANIZER;CN="Die%20Deutsche%20Balint%20Gesellschaft%20e.V.":MAILTO:geschaeftsstelle@balintgesellschaft.de
END:VEVENT
END:VCALENDAR